Package: scDblFinder Version: 1.21.1 Command: E:\biocbuild\bbs-3.21-bioc\R\bin\R.exe CMD check --no-multiarch --install=check:scDblFinder.install-out.txt --library=E:\biocbuild\bbs-3.21-bioc\R\library --no-vignettes --timings scDblFinder_1.21.1.tar.gz StartedAt: 2025-02-04 05:30:57 -0500 (Tue, 04 Feb 2025) EndedAt: 2025-02-04 05:37:49 -0500 (Tue, 04 Feb 2025) EllapsedTime: 411.9 seconds RetCode: 0 Status: OK CheckDir: scDblFinder.Rcheck Warnings: 0