Package: scDblFinder Version: 1.21.1 Command: chmod a+r scDblFinder -R && E:\biocbuild\bbs-3.21-bioc\R\bin\R.exe CMD build --keep-empty-dirs --no-resave-data scDblFinder StartedAt: 2025-02-03 21:38:25 -0500 (Mon, 03 Feb 2025) EndedAt: 2025-02-03 21:42:00 -0500 (Mon, 03 Feb 2025) EllapsedTime: 214.5 seconds RetCode: 0 Status: OK PackageFile: scDblFinder_1.21.1.tar.gz PackageFileSize: 1.863 MiB