Package: scDblFinder Version: 1.21.1 Command: /home/biocbuild/R/R/bin/R CMD INSTALL scDblFinder StartedAt: 2025-01-29 20:29:32 -0000 (Wed, 29 Jan 2025) EndedAt: 2025-01-29 20:30:30 -0000 (Wed, 29 Jan 2025) EllapsedTime: 57.9 seconds RetCode: 0 Status: OK