Package: scDblFinder Version: 1.21.1 Maintainer: Pierre-Luc Germain MaintainerEmail: pierre-luc.germain at hest.ethz.ch git_url: https://git.bioconductor.org/packages/scDblFinder git_branch: devel git_last_commit: a490046 git_last_commit_date: 2025-01-08 04:09:42 -0500 (Wed, 08 Jan 2025)