Package: scDDboost Version: 1.11.0 Command: /home/biocbuild/R/R/bin/R CMD INSTALL scDDboost StartedAt: 2025-10-09 21:12:33 -0000 (Thu, 09 Oct 2025) EndedAt: 2025-10-09 21:13:58 -0000 (Thu, 09 Oct 2025) EllapsedTime: 85.2 seconds RetCode: 0 Status: OK