Package: scDDboost Version: 1.11.0 Command: /home/biocbuild/R/R/bin/R CMD build --keep-empty-dirs --no-resave-data scDDboost StartedAt: 2025-10-10 03:52:03 -0000 (Fri, 10 Oct 2025) EndedAt: 2025-10-10 03:54:56 -0000 (Fri, 10 Oct 2025) EllapsedTime: 173.3 seconds RetCode: 0 Status: OK PackageFile: scDDboost_1.11.0.tar.gz PackageFileSize: 627.3 KiB