Package: scDDboost Version: 1.9.2 Command: /Library/Frameworks/R.framework/Resources/bin/R CMD build --keep-empty-dirs --no-resave-data scDDboost StartedAt: 2025-02-14 18:05:06 -0500 (Fri, 14 Feb 2025) EndedAt: 2025-02-14 18:06:43 -0500 (Fri, 14 Feb 2025) EllapsedTime: 97.2 seconds RetCode: 0 Status: OK PackageFile: scDDboost_1.9.2.tar.gz PackageFileSize: 857.3 KiB