Package: scDDboost Version: 1.9.2 Command: rm -rf scDDboost.buildbin-libdir && mkdir scDDboost.buildbin-libdir && /Users/biocbuild/BBS/utils/build-universal.sh scDDboost_1.9.2.tar.gz /Library/Frameworks/R.framework/Resources/bin/R scDDboost.buildbin-libdir StartedAt: 2025-02-17 00:41:38 -0500 (Mon, 17 Feb 2025) EndedAt: 2025-02-17 00:42:56 -0500 (Mon, 17 Feb 2025) EllapsedTime: 77.4 seconds RetCode: 0 Status: OK PackageFile: scDDboost_1.9.2.tgz PackageFileSize: 995.6 KiB