Package: scCB2 Version: 1.19.0 Command: rm -rf scCB2.buildbin-libdir && mkdir scCB2.buildbin-libdir && F:\biocbuild\bbs-3.22-bioc\R\bin\R.exe CMD INSTALL --build --library=scCB2.buildbin-libdir scCB2_1.19.0.tar.gz StartedAt: 2025-08-15 11:14:28 -0400 (Fri, 15 Aug 2025) EndedAt: 2025-08-15 11:15:18 -0400 (Fri, 15 Aug 2025) EllapsedTime: 50.0 seconds RetCode: 0 Status: OK PackageFile: scCB2_1.19.0.zip PackageFileSize: 894.5 KiB