Package: scCB2 Version: 1.17.0 Command: E:\biocbuild\bbs-3.21-bioc\R\bin\R.exe CMD INSTALL scCB2 StartedAt: 2025-02-03 17:03:05 -0500 (Mon, 03 Feb 2025) EndedAt: 2025-02-03 17:03:54 -0500 (Mon, 03 Feb 2025) EllapsedTime: 49.5 seconds RetCode: 0 Status: OK