Package: scCB2 Version: 1.17.0 Command: rm -rf scCB2.buildbin-libdir && mkdir scCB2.buildbin-libdir && /Users/biocbuild/BBS/utils/build-universal.sh scCB2_1.17.0.tar.gz /Library/Frameworks/R.framework/Resources/bin/R scCB2.buildbin-libdir StartedAt: 2025-02-04 00:54:35 -0500 (Tue, 04 Feb 2025) EndedAt: 2025-02-04 00:55:31 -0500 (Tue, 04 Feb 2025) EllapsedTime: 56.5 seconds RetCode: 0 Status: OK PackageFile: scCB2_1.17.0.tgz PackageFileSize: 888.2 KiB