Package: scBubbletree Version: 1.9.0 Command: /home/biocbuild/bbs-3.21-bioc/R/bin/R CMD check --install=check:scBubbletree.install-out.txt --library=/home/biocbuild/bbs-3.21-bioc/R/site-library --timings scBubbletree_1.9.0.tar.gz StartedAt: 2025-02-04 02:21:20 -0500 (Tue, 04 Feb 2025) EndedAt: 2025-02-04 02:35:18 -0500 (Tue, 04 Feb 2025) EllapsedTime: 837.9 seconds RetCode: 0 Status: OK CheckDir: scBubbletree.Rcheck Warnings: 0