Package: scBubbletree Version: 1.9.0 Command: /home/biocbuild/bbs-3.21-bioc/R/bin/R CMD build --keep-empty-dirs --no-resave-data scBubbletree StartedAt: 2025-02-03 19:13:52 -0500 (Mon, 03 Feb 2025) EndedAt: 2025-02-03 19:19:10 -0500 (Mon, 03 Feb 2025) EllapsedTime: 317.3 seconds RetCode: 0 Status: OK PackageFile: scBubbletree_1.9.0.tar.gz PackageFileSize: 4.655 MiB