Package: scBubbletree Version: 1.9.0 Command: /home/biocbuild/R/R/bin/R CMD INSTALL scBubbletree StartedAt: 2025-01-29 20:17:37 -0000 (Wed, 29 Jan 2025) EndedAt: 2025-01-29 20:18:04 -0000 (Wed, 29 Jan 2025) EllapsedTime: 26.5 seconds RetCode: 0 Status: OK