Package: scBFA Version: 1.23.0 Command: /home/biocbuild/bbs-3.22-bioc/R/bin/R CMD INSTALL scBFA StartedAt: 2025-10-06 15:28:00 -0400 (Mon, 06 Oct 2025) EndedAt: 2025-10-06 15:28:46 -0400 (Mon, 06 Oct 2025) EllapsedTime: 45.8 seconds RetCode: 0 Status: OK