Package: scBFA Version: 1.23.0 Command: /home/biocbuild/bbs-3.22-bioc/R/bin/R CMD build --keep-empty-dirs --no-resave-data --md5 scBFA StartedAt: 2025-10-06 19:49:02 -0400 (Mon, 06 Oct 2025) EndedAt: 2025-10-06 19:50:10 -0400 (Mon, 06 Oct 2025) EllapsedTime: 68.0 seconds RetCode: 0 Status: OK PackageFile: scBFA_1.23.0.tar.gz PackageFileSize: 1.141 MiB