Package: scBFA Version: 1.21.0 Command: rm -rf scBFA.buildbin-libdir && mkdir scBFA.buildbin-libdir && /Users/biocbuild/BBS/utils/build-universal.sh scBFA_1.21.0.tar.gz /Library/Frameworks/R.framework/Resources/bin/R scBFA.buildbin-libdir StartedAt: 2025-02-21 00:51:24 -0500 (Fri, 21 Feb 2025) EndedAt: 2025-02-21 00:52:28 -0500 (Fri, 21 Feb 2025) EllapsedTime: 64.6 seconds RetCode: 0 Status: OK PackageFile: scBFA_1.21.0.tgz PackageFileSize: 1.275 MiB