Package: scBFA Version: 1.21.0 Command: rm -rf scBFA.buildbin-libdir && mkdir scBFA.buildbin-libdir && /Users/biocbuild/BBS/utils/build-universal.sh scBFA_1.21.0.tar.gz /Library/Frameworks/R.framework/Resources/bin/R scBFA.buildbin-libdir StartedAt: 2025-02-03 23:05:05 -0500 (Mon, 03 Feb 2025) EndedAt: 2025-02-03 23:05:24 -0500 (Mon, 03 Feb 2025) EllapsedTime: 19.3 seconds RetCode: 0 Status: OK PackageFile: scBFA_1.21.0.tgz PackageFileSize: 1.28 MiB