Package: scAnnotatR Version: 1.15.0 Command: rm -rf scAnnotatR.buildbin-libdir && mkdir scAnnotatR.buildbin-libdir && F:\biocbuild\bbs-3.22-bioc\R\bin\R.exe CMD INSTALL --build --library=scAnnotatR.buildbin-libdir scAnnotatR_1.15.0.tar.gz StartedAt: 2025-08-15 11:14:01 -0400 (Fri, 15 Aug 2025) EndedAt: 2025-08-15 11:15:34 -0400 (Fri, 15 Aug 2025) EllapsedTime: 92.5 seconds RetCode: 0 Status: OK PackageFile: scAnnotatR_1.15.0.zip PackageFileSize: 937.9 KiB