Package: saseR Version: 1.5.0 Maintainer: Alexandre Segers MaintainerEmail: Alexandre.segers at ugent.be git_url: https://git.bioconductor.org/packages/saseR git_branch: devel git_last_commit: 36b21cd git_last_commit_date: 2025-04-15 13:26:30 -0400 (Tue, 15 Apr 2025)