Package: sarks Version: 1.21.0 Command: /home/biocbuild/bbs-3.22-bioc/R/bin/R CMD INSTALL sarks StartedAt: 2025-10-19 15:16:55 -0400 (Sun, 19 Oct 2025) EndedAt: 2025-10-19 15:17:05 -0400 (Sun, 19 Oct 2025) EllapsedTime: 10.0 seconds RetCode: 0 Status: OK