Package: sarks Version: 1.21.0 Command: /home/biocbuild/bbs-3.22-bioc/R/bin/R CMD build --keep-empty-dirs --no-resave-data --md5 sarks StartedAt: 2025-10-19 19:47:15 -0400 (Sun, 19 Oct 2025) EndedAt: 2025-10-19 19:47:38 -0400 (Sun, 19 Oct 2025) EllapsedTime: 23.0 seconds RetCode: 0 Status: OK PackageFile: sarks_1.21.0.tar.gz PackageFileSize: 746.8 KiB