Package: sarks Version: 1.21.0 Command: rm -rf sarks.buildbin-libdir && mkdir sarks.buildbin-libdir && /Users/biocbuild/BBS/utils/build-universal.sh sarks_1.21.0.tar.gz /Library/Frameworks/R.framework/Resources/bin/R sarks.buildbin-libdir StartedAt: 2025-10-09 22:55:37 -0400 (Thu, 09 Oct 2025) EndedAt: 2025-10-09 22:55:42 -0400 (Thu, 09 Oct 2025) EllapsedTime: 5.1 seconds RetCode: 0 Status: OK PackageFile: sarks_1.21.0.tgz PackageFileSize: 780.8 KiB