Package: sangerseqR Version: 1.45.0 Command: rm -rf sangerseqR.buildbin-libdir && mkdir sangerseqR.buildbin-libdir && /Users/biocbuild/BBS/utils/build-universal.sh sangerseqR_1.45.0.tar.gz /Library/Frameworks/R.framework/Resources/bin/R sangerseqR.buildbin-libdir StartedAt: 2025-05-10 01:07:08 -0400 (Sat, 10 May 2025) EndedAt: 2025-05-10 01:07:32 -0400 (Sat, 10 May 2025) EllapsedTime: 24.2 seconds RetCode: 0 Status: OK PackageFile: sangerseqR_1.45.0.tgz PackageFileSize: 3.185 MiB