Package: sangeranalyseR Version: 1.19.0 Command: chmod a+r sangeranalyseR -R && F:\biocbuild\bbs-3.22-bioc\R\bin\R.exe CMD build --keep-empty-dirs --no-resave-data sangeranalyseR StartedAt: 2025-08-14 22:57:38 -0400 (Thu, 14 Aug 2025) EndedAt: 2025-08-14 23:01:45 -0400 (Thu, 14 Aug 2025) EllapsedTime: 246.9 seconds RetCode: 0 Status: OK PackageFile: sangeranalyseR_1.19.0.tar.gz PackageFileSize: 38.15 MiB