Package: sangeranalyseR Version: 1.19.0 Command: /home/biocbuild/bbs-3.22-bioc/R/bin/R CMD INSTALL sangeranalyseR StartedAt: 2025-10-03 15:50:01 -0400 (Fri, 03 Oct 2025) EndedAt: 2025-10-03 15:50:24 -0400 (Fri, 03 Oct 2025) EllapsedTime: 23.0 seconds RetCode: 0 Status: OK