Package: sangeranalyseR Version: 1.19.0 Command: rm -rf sangeranalyseR.buildbin-libdir && mkdir sangeranalyseR.buildbin-libdir && /Users/biocbuild/BBS/utils/build-universal.sh sangeranalyseR_1.19.0.tar.gz /Library/Frameworks/R.framework/Resources/bin/R sangeranalyseR.buildbin-libdir StartedAt: 2025-10-03 02:19:04 -0400 (Fri, 03 Oct 2025) EndedAt: 2025-10-03 02:19:46 -0400 (Fri, 03 Oct 2025) EllapsedTime: 41.4 seconds RetCode: 0 Status: OK PackageFile: sangeranalyseR_1.19.0.tgz PackageFileSize: 5.783 MiB