Package: sangeranalyseR Version: 1.19.0 Command: /Library/Frameworks/R.framework/Resources/bin/R CMD INSTALL sangeranalyseR StartedAt: 2025-10-22 15:28:28 -0400 (Wed, 22 Oct 2025) EndedAt: 2025-10-22 15:28:30 -0400 (Wed, 22 Oct 2025) EllapsedTime: 2.2 seconds RetCode: 1 Status: ERROR