Package: sangeranalyseR Version: 1.19.0 Command: /Library/Frameworks/R.framework/Resources/bin/R CMD build --keep-empty-dirs --no-resave-data sangeranalyseR StartedAt: 2025-10-22 17:37:25 -0400 (Wed, 22 Oct 2025) EndedAt: 2025-10-22 17:37:28 -0400 (Wed, 22 Oct 2025) EllapsedTime: 3.0 seconds RetCode: 1 Status: ERROR PackageFile: None PackageFileSize: NA