Package: sampleClassifier Version: 1.33.0 Command: /home/biocbuild/bbs-3.22-bioc/R/bin/R CMD INSTALL sampleClassifier StartedAt: 2025-07-23 15:33:18 -0400 (Wed, 23 Jul 2025) EndedAt: 2025-07-23 15:33:37 -0400 (Wed, 23 Jul 2025) EllapsedTime: 18.4 seconds RetCode: 0 Status: OK