Package: safe Version: 3.49.0 Command: rm -rf safe.buildbin-libdir && mkdir safe.buildbin-libdir && F:\biocbuild\bbs-3.22-bioc\R\bin\R.exe CMD INSTALL --build --library=safe.buildbin-libdir safe_3.49.0.tar.gz StartedAt: 2025-08-15 11:12:42 -0400 (Fri, 15 Aug 2025) EndedAt: 2025-08-15 11:13:11 -0400 (Fri, 15 Aug 2025) EllapsedTime: 29.0 seconds RetCode: 0 Status: OK PackageFile: safe_3.49.0.zip PackageFileSize: 705 KiB