Package: safe Version: 3.47.0 Command: /home/biocbuild/R/R/bin/R CMD INSTALL safe StartedAt: 2025-01-29 19:50:58 -0000 (Wed, 29 Jan 2025) EndedAt: 2025-01-29 19:51:19 -0000 (Wed, 29 Jan 2025) EllapsedTime: 21.4 seconds RetCode: 0 Status: OK