Package: safe Version: 3.47.0 Command: /home/biocbuild/R/R/bin/R CMD check --install=check:safe.install-out.txt --library=/home/biocbuild/R/R/site-library --no-vignettes --timings safe_3.47.0.tar.gz StartedAt: 2025-01-28 14:50:51 -0000 (Tue, 28 Jan 2025) EndedAt: 2025-01-28 14:52:48 -0000 (Tue, 28 Jan 2025) EllapsedTime: 116.1 seconds RetCode: 0 Status: OK CheckDir: safe.Rcheck Warnings: 0