Package: sSeq Version: 1.49.0 Command: /home/biocbuild/bbs-3.23-bioc/R/bin/R CMD INSTALL sSeq StartedAt: 2025-11-05 15:11:19 -0500 (Wed, 05 Nov 2025) EndedAt: 2025-11-05 15:11:28 -0500 (Wed, 05 Nov 2025) EllapsedTime: 9.5 seconds RetCode: 0 Status: OK