Package: sSeq Version: 1.49.0 Command: /home/biocbuild/bbs-3.23-bioc/R/bin/R CMD build --keep-empty-dirs --no-resave-data sSeq StartedAt: 2025-11-05 20:21:44 -0500 (Wed, 05 Nov 2025) EndedAt: 2025-11-05 20:22:48 -0500 (Wed, 05 Nov 2025) EllapsedTime: 64.1 seconds RetCode: 0 Status: OK PackageFile: sSeq_1.49.0.tar.gz PackageFileSize: 4.201 MiB