Package: sSeq Version: 1.47.0 Command: /Library/Frameworks/R.framework/Resources/bin/R CMD INSTALL sSeq StartedAt: 2025-10-10 15:04:47 -0400 (Fri, 10 Oct 2025) EndedAt: 2025-10-10 15:04:51 -0400 (Fri, 10 Oct 2025) EllapsedTime: 4.3 seconds RetCode: 0 Status: OK