Package: sSeq Version: 1.47.0 Command: rm -rf sSeq.buildbin-libdir && mkdir sSeq.buildbin-libdir && /Users/biocbuild/BBS/utils/build-universal.sh sSeq_1.47.0.tar.gz /Library/Frameworks/R.framework/Resources/bin/R sSeq.buildbin-libdir StartedAt: 2025-10-10 22:59:22 -0400 (Fri, 10 Oct 2025) EndedAt: 2025-10-10 22:59:24 -0400 (Fri, 10 Oct 2025) EllapsedTime: 2.0 seconds RetCode: 0 Status: OK PackageFile: sSeq_1.47.0.tgz PackageFileSize: 4.3 MiB