Package: sRACIPE Version: 2.1.1 Command: /home/biocbuild/bbs-3.22-bioc/R/bin/R CMD INSTALL sRACIPE StartedAt: 2025-10-07 15:16:45 -0400 (Tue, 07 Oct 2025) EndedAt: 2025-10-07 15:17:37 -0400 (Tue, 07 Oct 2025) EllapsedTime: 52.7 seconds RetCode: 0 Status: OK