Package: runibic Version: 1.31.0 Command: chmod a+r runibic -R && F:\biocbuild\bbs-3.22-bioc\R\bin\R.exe CMD build --keep-empty-dirs --no-resave-data runibic StartedAt: 2025-08-14 22:56:48 -0400 (Thu, 14 Aug 2025) EndedAt: 2025-08-14 22:57:46 -0400 (Thu, 14 Aug 2025) EllapsedTime: 57.3 seconds RetCode: 0 Status: OK PackageFile: runibic_1.31.0.tar.gz PackageFileSize: 44.9 KiB