Package: rtracklayer Version: 1.69.1 Command: chmod a+r rtracklayer -R && F:\biocbuild\bbs-3.22-bioc\R\bin\R.exe CMD build --keep-empty-dirs --no-resave-data rtracklayer StartedAt: 2025-08-14 22:55:38 -0400 (Thu, 14 Aug 2025) EndedAt: 2025-08-14 23:03:35 -0400 (Thu, 14 Aug 2025) EllapsedTime: 476.5 seconds RetCode: 0 Status: OK PackageFile: rtracklayer_1.69.1.tar.gz PackageFileSize: 3.756 MiB