Package: rsemmed Version: 1.17.0 Command: chmod a+r rsemmed -R && E:\biocbuild\bbs-3.21-bioc\R\bin\R.exe CMD build --keep-empty-dirs --no-resave-data rsemmed StartedAt: 2025-02-14 21:19:19 -0500 (Fri, 14 Feb 2025) EndedAt: 2025-02-14 21:20:16 -0500 (Fri, 14 Feb 2025) EllapsedTime: 56.9 seconds RetCode: 0 Status: OK PackageFile: rsemmed_1.17.0.tar.gz PackageFileSize: 1.749 MiB