Package: rsemmed Version: 1.19.0 Command: /Library/Frameworks/R.framework/Resources/bin/R CMD check --install=check:rsemmed.install-out.txt --library=/Library/Frameworks/R.framework/Resources/library --no-vignettes --timings rsemmed_1.19.0.tar.gz StartedAt: 2025-05-08 21:40:39 -0400 (Thu, 08 May 2025) EndedAt: 2025-05-08 21:40:58 -0400 (Thu, 08 May 2025) EllapsedTime: 19.3 seconds RetCode: 0 Status: OK CheckDir: rsemmed.Rcheck Warnings: 0