Package: rsemmed Version: 1.19.0 Command: rm -rf rsemmed.buildbin-libdir && mkdir rsemmed.buildbin-libdir && /Users/biocbuild/BBS/utils/build-universal.sh rsemmed_1.19.0.tar.gz /Library/Frameworks/R.framework/Resources/bin/R rsemmed.buildbin-libdir StartedAt: 2025-05-08 23:28:29 -0400 (Thu, 08 May 2025) EndedAt: 2025-05-08 23:28:33 -0400 (Thu, 08 May 2025) EllapsedTime: 3.1 seconds RetCode: 0 Status: OK PackageFile: rsemmed_1.19.0.tgz PackageFileSize: 2.228 MiB