Package: rsemmed Version: 1.19.0 Maintainer: Leslie Myint MaintainerEmail: leslie.myint at gmail.com git_url: https://git.bioconductor.org/packages/rsemmed git_branch: devel git_last_commit: 13209b6 git_last_commit_date: 2025-04-15 12:08:47 -0400 (Tue, 15 Apr 2025)