Package: rrvgo Version: 1.21.5 Command: /home/biocbuild/bbs-3.22-bioc/R/bin/R CMD INSTALL rrvgo StartedAt: 2025-10-10 15:51:50 -0400 (Fri, 10 Oct 2025) EndedAt: 2025-10-10 15:52:11 -0400 (Fri, 10 Oct 2025) EllapsedTime: 20.7 seconds RetCode: 0 Status: OK