Package: rrvgo Version: 1.21.5 Command: /home/biocbuild/bbs-3.22-bioc/R/bin/R CMD build --keep-empty-dirs --no-resave-data --md5 rrvgo StartedAt: 2025-10-10 19:54:35 -0400 (Fri, 10 Oct 2025) EndedAt: 2025-10-10 19:57:07 -0400 (Fri, 10 Oct 2025) EllapsedTime: 152.1 seconds RetCode: 0 Status: OK PackageFile: rrvgo_1.21.5.tar.gz PackageFileSize: 1.987 MiB