Package: rrvgo Version: 1.19.0 Command: /Library/Frameworks/R.framework/Resources/bin/R CMD check --install=check:rrvgo.install-out.txt --library=/Library/Frameworks/R.framework/Resources/library --no-vignettes --timings rrvgo_1.19.0.tar.gz StartedAt: 2025-02-16 22:46:33 -0500 (Sun, 16 Feb 2025) EndedAt: 2025-02-16 23:16:45 -0500 (Sun, 16 Feb 2025) EllapsedTime: 1812.4 seconds RetCode: 0 Status: OK CheckDir: rrvgo.Rcheck Warnings: 0