Package: rrvgo Version: 1.19.0 Command: /Library/Frameworks/R.framework/Resources/bin/R CMD build --keep-empty-dirs --no-resave-data rrvgo StartedAt: 2025-02-16 18:00:02 -0500 (Sun, 16 Feb 2025) EndedAt: 2025-02-16 18:04:30 -0500 (Sun, 16 Feb 2025) EllapsedTime: 267.7 seconds RetCode: 0 Status: OK PackageFile: rrvgo_1.19.0.tar.gz PackageFileSize: 1.872 MiB