Package: rqubic Version: 1.55.0 Command: chmod a+r rqubic -R && F:\biocbuild\bbs-3.22-bioc\R\bin\R.exe CMD build --keep-empty-dirs --no-resave-data rqubic StartedAt: 2025-08-14 22:53:46 -0400 (Thu, 14 Aug 2025) EndedAt: 2025-08-14 22:54:48 -0400 (Thu, 14 Aug 2025) EllapsedTime: 61.7 seconds RetCode: 0 Status: OK PackageFile: rqubic_1.55.0.tar.gz PackageFileSize: 189.5 KiB