Package: rqubic Version: 1.55.0 Command: /home/biocbuild/bbs-3.22-bioc/R/bin/R CMD INSTALL rqubic StartedAt: 2025-10-14 15:12:46 -0400 (Tue, 14 Oct 2025) EndedAt: 2025-10-14 15:12:55 -0400 (Tue, 14 Oct 2025) EllapsedTime: 8.9 seconds RetCode: 0 Status: OK